BEGIN:VCALENDAR
VERSION:2.0
PRODID:-//thejiit - ECPv6.11.2.1//NONSGML v1.0//EN
CALSCALE:GREGORIAN
METHOD:PUBLISH
X-ORIGINAL-URL:https://www.thejiit.com
X-WR-CALDESC:Events for thejiit
REFRESH-INTERVAL;VALUE=DURATION:PT1H
X-Robots-Tag:noindex
X-PUBLISHED-TTL:PT1H
BEGIN:VTIMEZONE
TZID:UTC
BEGIN:STANDARD
TZOFFSETFROM:+0000
TZOFFSETTO:+0000
TZNAME:UTC
DTSTART:20250101T000000
END:STANDARD
END:VTIMEZONE
BEGIN:VEVENT
DTSTART;TZID=UTC:20250808T190000
DTEND;TZID=UTC:20250808T203000
DTSTAMP:20260425T160052
CREATED:20250714T135759Z
LAST-MODIFIED:20250715T122140Z
UID:5092-1754679600-1754685000@www.thejiit.com
SUMMARY:Full Moon\, Lions Gate Cacao Ceremony & Sound Journey
DESCRIPTION:You are invited to an intimate and immersive\, heart-centered ceremony honoring the energy of Lions Gate — a time of radiance\, manifestation\, and expansion. \n\nWe will begin with a ceremonial cacao ritual\, opening the heart and connecting us to the earth and each other\nGuided into meditation\, you’ll journey inward while bathed in the harmonics of Himalayan singing bowls — amplifying clarity\, creativity\, and vision.\nWe’ll then move into a deeply restorative gong bath\, allowing the body to release and integrate.\nSpace will be held for reflection\, journaling\, and sharing\, anchoring your intentions in community and ceremony.\n\nThis is a soulful invitation to pause\, receive\, and align with the light within and around you. Open to 12 participants only. \n\n\nBuy Tickets on Eventbrite\n\nBuy Tickets
URL:https://www.thejiit.com/event/full-moon-lions-gate-cacao-ceremony-sound-journey/
CATEGORIES:Sound Healing,Upcoming
ATTACH;FMTTYPE=image/jpeg:https://www.thejiit.com/wp-content/uploads/2025/07/30F8FE8F-E18E-4541-8AAF-83BDE95783BB.jpeg
END:VEVENT
END:VCALENDAR